BEGIN:VCALENDAR
VERSION:2.0
PRODID:-//ITQ - ECPv6.15.20//NONSGML v1.0//EN
CALSCALE:GREGORIAN
METHOD:PUBLISH
X-WR-CALNAME:ITQ
X-ORIGINAL-URL:https://itq-institut.de
X-WR-CALDESC:Veranstaltungen für ITQ
REFRESH-INTERVAL;VALUE=DURATION:PT1H
X-Robots-Tag:noindex
X-PUBLISHED-TTL:PT1H
BEGIN:VTIMEZONE
TZID:Europe/Paris
BEGIN:DAYLIGHT
TZOFFSETFROM:+0100
TZOFFSETTO:+0200
TZNAME:CEST
DTSTART:20250330T010000
END:DAYLIGHT
BEGIN:STANDARD
TZOFFSETFROM:+0200
TZOFFSETTO:+0100
TZNAME:CET
DTSTART:20251026T010000
END:STANDARD
BEGIN:DAYLIGHT
TZOFFSETFROM:+0100
TZOFFSETTO:+0200
TZNAME:CEST
DTSTART:20260329T010000
END:DAYLIGHT
BEGIN:STANDARD
TZOFFSETFROM:+0200
TZOFFSETTO:+0100
TZNAME:CET
DTSTART:20261025T010000
END:STANDARD
BEGIN:DAYLIGHT
TZOFFSETFROM:+0100
TZOFFSETTO:+0200
TZNAME:CEST
DTSTART:20270328T010000
END:DAYLIGHT
BEGIN:STANDARD
TZOFFSETFROM:+0200
TZOFFSETTO:+0100
TZNAME:CET
DTSTART:20271031T010000
END:STANDARD
END:VTIMEZONE
BEGIN:VEVENT
DTSTART;TZID=Europe/Paris:20260507T140000
DTEND;TZID=Europe/Paris:20260507T150000
DTSTAMP:20260422T122532
CREATED:20260311T175050Z
LAST-MODIFIED:20260420T072424Z
UID:2530-1778162400-1778166000@itq-institut.de
SUMMARY:Info-Session Mai 2026
DESCRIPTION:In unserer einstündigen\, unverbindlichen Info-Session stellt unser Geschäftsführer Christian Schneider das ITQ-Geschäftsmodell vor – und zeigt\, wie Sie mit unseren Lösungen effizienter arbeiten und neue Geschäftsfelder erschließen können.\nFür alle\, die mehr wollen als Technik.
URL:https://itq-institut.de/veranstaltung/info-session-mai-2026/
CATEGORIES:Webinar
ATTACH;FMTTYPE=image/png:https://itq-institut.de/wp-content/uploads/2025/08/ITQ_Keyvisual_FINAL_RGB-scaled.png
ORGANIZER;CN="ITQ GmbH":MAILTO:info@itq-institut.de
END:VEVENT
BEGIN:VEVENT
DTSTART;TZID=Europe/Paris:20260625T140000
DTEND;TZID=Europe/Paris:20260625T150000
DTSTAMP:20260422T122532
CREATED:20260311T175335Z
LAST-MODIFIED:20260311T175342Z
UID:2533-1782396000-1782399600@itq-institut.de
SUMMARY:Info-Session Juni 2026
DESCRIPTION:In unserer einstündigen\, unverbindlichen Info-Session stellt unser Geschäftsführer Christian Schneider das ITQ-Geschäftsmodell vor – und zeigt\, wie Sie mit unseren Lösungen effizienter arbeiten und neue Geschäftsfelder erschließen können.\nFür alle\, die mehr wollen als Technik.
URL:https://itq-institut.de/veranstaltung/info-session-juni-2026/
CATEGORIES:Webinar
ATTACH;FMTTYPE=image/png:https://itq-institut.de/wp-content/uploads/2025/08/ITQ_Keyvisual_FINAL_RGB-scaled.png
ORGANIZER;CN="ITQ GmbH":MAILTO:info@itq-institut.de
END:VEVENT
END:VCALENDAR